BEGIN:VCALENDAR
VERSION:2.0
PRODID:-//XL Giornale - ECPv6.15.17.1//NONSGML v1.0//EN
CALSCALE:GREGORIAN
METHOD:PUBLISH
X-WR-CALNAME:XL Giornale
X-ORIGINAL-URL:https://xlgiornale.it
X-WR-CALDESC:Eventi per XL Giornale
REFRESH-INTERVAL;VALUE=DURATION:PT1H
X-Robots-Tag:noindex
X-PUBLISHED-TTL:PT1H
BEGIN:VTIMEZONE
TZID:Europe/Paris
BEGIN:DAYLIGHT
TZOFFSETFROM:+0100
TZOFFSETTO:+0200
TZNAME:CEST
DTSTART:20250330T010000
END:DAYLIGHT
BEGIN:STANDARD
TZOFFSETFROM:+0200
TZOFFSETTO:+0100
TZNAME:CET
DTSTART:20251026T010000
END:STANDARD
BEGIN:DAYLIGHT
TZOFFSETFROM:+0100
TZOFFSETTO:+0200
TZNAME:CEST
DTSTART:20260329T010000
END:DAYLIGHT
BEGIN:STANDARD
TZOFFSETFROM:+0200
TZOFFSETTO:+0100
TZNAME:CET
DTSTART:20261025T010000
END:STANDARD
BEGIN:DAYLIGHT
TZOFFSETFROM:+0100
TZOFFSETTO:+0200
TZNAME:CEST
DTSTART:20270328T010000
END:DAYLIGHT
BEGIN:STANDARD
TZOFFSETFROM:+0200
TZOFFSETTO:+0100
TZNAME:CET
DTSTART:20271031T010000
END:STANDARD
END:VTIMEZONE
BEGIN:VEVENT
DTSTART;VALUE=DATE:20260223
DTEND;VALUE=DATE:20260228
DTSTAMP:20260420T112220
CREATED:20260220T105623Z
LAST-MODIFIED:20260220T105623Z
UID:8403-1771804800-1772236799@xlgiornale.it
SUMMARY:ASL RM5 Screening gratuito 25-74 anni
DESCRIPTION:Dal 23 al 27 febbraio\, nei pressi della Chiesa di Santa Maria del Popolo in Via Agrigento 2\, sarà attivo un poliambulatorio mobile dedicato ai programmi di screening oncologici gratuiti. L’iniziativa è rivolta alle persone residenti o domiciliate nel territorio della ASL Roma 5 e si svolgerà con orario continuato dalle 9.00 alle 18.00. \nDurante le cinque giornate sarà possibile effettuare diversi controlli fondamentali per la prevenzione dei principali tumori. In particolare\, saranno disponibili: \n\nla mammografia\, per le donne di età compresa tra 50 e 74 anni;\nil Pap test\, per le donne tra 25 e 29 anni;\nl’HPV test\, per la fascia di età 30-64 anni;\nlo screening del colon retto\, rivolto a uomini e donne tra 50 e 74 anni.\n\nL’accesso all’evento è previsto in modalità libera. Per chi non potesse partecipare direttamente nelle giornate dedicate\, è comunque possibile richiedere informazioni e prenotazioni contattando il numero verde 800 894 549\, attivo dal lunedì al venerdì dalle 8.00 alle 13.00 e dalle 14.00 alle 17.00.
URL:https://xlgiornale.it/evento/asl-rm5-screening-gratuito-25-74-anni-2/
LOCATION:Chiesa di Santa Maria del Popolo\, Via Agrigento\, 2\, Guidonia Montecelio\, Roma\, 00012\, Italy
CATEGORIES:Iniziative
ATTACH;FMTTYPE=image/jpeg:https://xlgiornale.it/wp-content/uploads/2026/02/IMG_4240.jpeg
END:VEVENT
BEGIN:VEVENT
DTSTART;TZID=Europe/Paris:20260213T153000
DTEND;TZID=Europe/Paris:20260213T170000
DTSTAMP:20260420T112220
CREATED:20260212T103551Z
LAST-MODIFIED:20260212T103551Z
UID:8216-1770996600-1771002000@xlgiornale.it
SUMMARY:INCONTRO "Strada sicura" sulla sicurezza stradale
DESCRIPTION:TIVOLI – Tivoli si prepara ad accogliere la presentazione ufficiale di “Strada Sicura”\, una nuova realtà associativa nata con l’obiettivo di promuovere una cultura diffusa della sicurezza e del rispetto stradale. L’evento si terrà venerdì 13 febbraio alle ore 15:30\, nella suggestiva cornice delle Scuderie Estensi di Piazza Garibaldi\, alla presenza di numerose autorità\, rappresentanti istituzionali e ospiti del territorio. \nStrada Sicura si propone come punto di riferimento per cittadini\, istituzioni e operatori del settore\, con una particolare attenzione alla sensibilizzazione delle giovani generazioni sui comportamenti corretti da adottare sulla strada. L’obiettivo è favorire una maggiore consapevolezza dei rischi e delle responsabilità che coinvolgono tutti gli utenti della strada: automobilisti\, ciclisti e pedoni.
URL:https://xlgiornale.it/evento/incontro-strada-sicura-sulla-sicurezza-stradale/
LOCATION:Scuderie Estensi\, Piazza Giuseppe Garibaldi\, Tivoli\, Roma\, 00019\, Italy
CATEGORIES:Iniziative
ATTACH;FMTTYPE=image/jpeg:https://xlgiornale.it/wp-content/uploads/2026/02/StradaSicuraOk.jpg
END:VEVENT
END:VCALENDAR