BEGIN:VCALENDAR
VERSION:2.0
PRODID:-//XL Giornale - ECPv6.15.17.1//NONSGML v1.0//EN
CALSCALE:GREGORIAN
METHOD:PUBLISH
X-ORIGINAL-URL:https://xlgiornale.it
X-WR-CALDESC:Eventi per XL Giornale
REFRESH-INTERVAL;VALUE=DURATION:PT1H
X-Robots-Tag:noindex
X-PUBLISHED-TTL:PT1H
BEGIN:VTIMEZONE
TZID:Europe/Paris
BEGIN:DAYLIGHT
TZOFFSETFROM:+0100
TZOFFSETTO:+0200
TZNAME:CEST
DTSTART:20250330T010000
END:DAYLIGHT
BEGIN:STANDARD
TZOFFSETFROM:+0200
TZOFFSETTO:+0100
TZNAME:CET
DTSTART:20251026T010000
END:STANDARD
BEGIN:DAYLIGHT
TZOFFSETFROM:+0100
TZOFFSETTO:+0200
TZNAME:CEST
DTSTART:20260329T010000
END:DAYLIGHT
BEGIN:STANDARD
TZOFFSETFROM:+0200
TZOFFSETTO:+0100
TZNAME:CET
DTSTART:20261025T010000
END:STANDARD
BEGIN:DAYLIGHT
TZOFFSETFROM:+0100
TZOFFSETTO:+0200
TZNAME:CEST
DTSTART:20270328T010000
END:DAYLIGHT
BEGIN:STANDARD
TZOFFSETFROM:+0200
TZOFFSETTO:+0100
TZNAME:CET
DTSTART:20271031T010000
END:STANDARD
END:VTIMEZONE
BEGIN:VEVENT
DTSTART;TZID=Europe/Paris:20260320T170000
DTEND;TZID=Europe/Paris:20260320T190000
DTSTAMP:20260424T212403
CREATED:20260316T083626Z
LAST-MODIFIED:20260316T083626Z
UID:8887-1774026000-1774033200@xlgiornale.it
SUMMARY:INCONTRO su violenza di genere e tutela dei minori
DESCRIPTION:Il 20 marzo alle ore 17\, presso le Scuderie Estensi\, si terrà un importante incontro pubblico dedicato al tema della violenza di genere e delle violenze sui minori e sulle persone fragili. L’iniziativa è promossa dal Comune di Tivoli\, che si presenta come “città della pace e del dialogo”\, e vuole offrire uno spazio di confronto tra istituzioni\, associazioni e società civile su un tema di grande attualità sociale. \nA moderare il dibattito sarà la giornalista Laura Aprati\, mentre l’introduzione sarà affidata allo scrittore e giornalista Gianni Cipriani e a Cosimo Bari\, dirigente del commissariato di Polizia di Tivoli. \nNumerosi gli interventi previsti da parte di rappresentanti del mondo associativo e impegnati nella difesa dei diritti delle donne e delle persone vulnerabili. Tra questi Nadia Palozza\, Sabina Colletti\, Daniela Di Camillo\, Simona Simeone e Ilde Neri\, che porteranno contributi ed esperienze maturate sul campo nella prevenzione e nel contrasto alla violenza.
URL:https://xlgiornale.it/evento/incontro-su-violenza-di-genere-e-tutela-dei-minori/
LOCATION:Scuderie Estensi\, Piazza Giuseppe Garibaldi\, Tivoli\, Roma\, 00019\, Italy
CATEGORIES:Iniziative
ATTACH;FMTTYPE=image/jpeg:https://xlgiornale.it/wp-content/uploads/2026/03/IMG_4550.jpeg
END:VEVENT
BEGIN:VEVENT
DTSTART;VALUE=DATE:20260331
DTEND;VALUE=DATE:20260401
DTSTAMP:20260424T212403
CREATED:20260309T112855Z
LAST-MODIFIED:20260309T112855Z
UID:8746-1774915200-1775001599@xlgiornale.it
SUMMARY:IL CAMMINO DELLE DONNE laboratorio per bambini “La fabbrica dei mestieri strani e caccia al tesoro”
DESCRIPTION:Dall’8 al 31 marzo 2026 sale comunali\, musei\, biblioteche e spazi culturali ospiteranno incontri\, mostre\, concerti\, conferenze e laboratori aperti al pubblico\, con il coinvolgimento di associazioni\, scuole e realtà del territorio. INGRESSO LIBERO \nIl programma si concluderà il 31 marzo con “La fabbrica dei mestieri strani e caccia al tesoro”\, laboratorio creativo per bambini dai 3 agli 8 anni presso la Biblioteca Comunale.
URL:https://xlgiornale.it/evento/il-cammino-delle-donne-laboratorio-per-bambini-la-fabbrica-dei-mestieri-strani-e-caccia-al-tesoro/
LOCATION:Roma
CATEGORIES:Iniziative
ATTACH;FMTTYPE=image/jpeg:https://xlgiornale.it/wp-content/uploads/2026/03/IMG_4488.jpeg
END:VEVENT
END:VCALENDAR