BEGIN:VCALENDAR
VERSION:2.0
PRODID:-//XL Giornale - ECPv6.15.17.1//NONSGML v1.0//EN
CALSCALE:GREGORIAN
METHOD:PUBLISH
X-WR-CALNAME:XL Giornale
X-ORIGINAL-URL:https://xlgiornale.it
X-WR-CALDESC:Eventi per XL Giornale
REFRESH-INTERVAL;VALUE=DURATION:PT1H
X-Robots-Tag:noindex
X-PUBLISHED-TTL:PT1H
BEGIN:VTIMEZONE
TZID:Europe/Paris
BEGIN:DAYLIGHT
TZOFFSETFROM:+0100
TZOFFSETTO:+0200
TZNAME:CEST
DTSTART:20250330T010000
END:DAYLIGHT
BEGIN:STANDARD
TZOFFSETFROM:+0200
TZOFFSETTO:+0100
TZNAME:CET
DTSTART:20251026T010000
END:STANDARD
BEGIN:DAYLIGHT
TZOFFSETFROM:+0100
TZOFFSETTO:+0200
TZNAME:CEST
DTSTART:20260329T010000
END:DAYLIGHT
BEGIN:STANDARD
TZOFFSETFROM:+0200
TZOFFSETTO:+0100
TZNAME:CET
DTSTART:20261025T010000
END:STANDARD
BEGIN:DAYLIGHT
TZOFFSETFROM:+0100
TZOFFSETTO:+0200
TZNAME:CEST
DTSTART:20270328T010000
END:DAYLIGHT
BEGIN:STANDARD
TZOFFSETFROM:+0200
TZOFFSETTO:+0100
TZNAME:CET
DTSTART:20271031T010000
END:STANDARD
END:VTIMEZONE
BEGIN:VEVENT
DTSTART;TZID=Europe/Paris:20260429T170000
DTEND;TZID=Europe/Paris:20260529T020000
DTSTAMP:20260424T170116
CREATED:20260424T102215Z
LAST-MODIFIED:20260424T102215Z
UID:9595-1777482000-1780020000@xlgiornale.it
SUMMARY:RASSEGNA FOTOGRAFICA Il volto e la maschera - Uno\, nessuno\, centomila
DESCRIPTION:‘Il volto e la maschera – Uno nessuno centomila’ è la 27esima mostra della rassegna fotografica Fotografica Monti ad AntiGallery di Roma (piazza degli Zingari 3)\, locale e luogo d’incontro di fotografi\, appassionati d’arte\, addetti ai lavori e d’un eterogeneo pubblico che comprende molti giovani. L’esposizione\, che verrà inaugurata il 29 aprile alle 18.30 e sarà visitabile fino al 29 maggio tutti i giorni dalle 17 alle 2\, è una collettiva di opere fotografiche su un tema complesso che le Arti visive hanno nei secoli trattato in migliaia e migliaia di modi diversi.
URL:https://xlgiornale.it/evento/rassegna-fotografica-il-volto-e-la-maschera-uno-nessuno-centomila/
CATEGORIES:Iniziative
ATTACH;FMTTYPE=image/jpeg:https://xlgiornale.it/wp-content/uploads/2026/04/antigallery.jpg
END:VEVENT
END:VCALENDAR