BEGIN:VCALENDAR
VERSION:2.0
PRODID:-//XL Giornale - ECPv6.15.17.1//NONSGML v1.0//EN
CALSCALE:GREGORIAN
METHOD:PUBLISH
X-WR-CALNAME:XL Giornale
X-ORIGINAL-URL:https://xlgiornale.it
X-WR-CALDESC:Eventi per XL Giornale
REFRESH-INTERVAL;VALUE=DURATION:PT1H
X-Robots-Tag:noindex
X-PUBLISHED-TTL:PT1H
BEGIN:VTIMEZONE
TZID:Europe/Paris
BEGIN:DAYLIGHT
TZOFFSETFROM:+0100
TZOFFSETTO:+0200
TZNAME:CEST
DTSTART:20250330T010000
END:DAYLIGHT
BEGIN:STANDARD
TZOFFSETFROM:+0200
TZOFFSETTO:+0100
TZNAME:CET
DTSTART:20251026T010000
END:STANDARD
BEGIN:DAYLIGHT
TZOFFSETFROM:+0100
TZOFFSETTO:+0200
TZNAME:CEST
DTSTART:20260329T010000
END:DAYLIGHT
BEGIN:STANDARD
TZOFFSETFROM:+0200
TZOFFSETTO:+0100
TZNAME:CET
DTSTART:20261025T010000
END:STANDARD
BEGIN:DAYLIGHT
TZOFFSETFROM:+0100
TZOFFSETTO:+0200
TZNAME:CEST
DTSTART:20270328T010000
END:DAYLIGHT
BEGIN:STANDARD
TZOFFSETFROM:+0200
TZOFFSETTO:+0100
TZNAME:CET
DTSTART:20271031T010000
END:STANDARD
END:VTIMEZONE
BEGIN:VEVENT
DTSTART;VALUE=DATE:20260501
DTEND;VALUE=DATE:20260502
DTSTAMP:20260424T212158
CREATED:20260424T103518Z
LAST-MODIFIED:20260424T103710Z
UID:9605-1777593600-1777679999@xlgiornale.it
SUMMARY:CONCERTO di Orietta Berti per la festa di San Giuseppe Artigiano
DESCRIPTION:A Villanova di Guidonia cambia il calendario del tradizionale mercato settimanale del venerdì. Con l’ordinanza numero 126\, firmata dal sindaco Mauro Lombardo\, è stato disposto il rinvio del mercato previsto per venerdì 1° maggio 2026. \nLa decisione è legata ai festeggiamenti in onore del patrono San Giuseppe Artigiano\, che animeranno la giornata proprio il 1° maggio. Per consentire lo svolgimento delle celebrazioni religiose e degli eventi collegati\, il mercato sarà recuperato domenica 10 maggio 2026. \nIl programma della giornata del 1° maggio prevede\, in mattinata\, la tradizionale processione in onore del santo patrono\, mentre in serata è atteso il concerto della cantante Orietta Berti\, evento che rappresenta uno dei momenti più attesi dei festeggiamenti.
URL:https://xlgiornale.it/evento/concerto-di-orietta-berti-per-la-festa-di-san-giuseppe-artigiano/
LOCATION:Villanova\, Villanova\, Roma\, 00012\, Italy
CATEGORIES:Manifestazioni
ATTACH;FMTTYPE=image/jpeg:https://xlgiornale.it/wp-content/uploads/2026/04/311.jpg
END:VEVENT
END:VCALENDAR