BEGIN:VCALENDAR
VERSION:2.0
PRODID:-//XL Giornale - ECPv6.15.17.1//NONSGML v1.0//EN
CALSCALE:GREGORIAN
METHOD:PUBLISH
X-WR-CALNAME:XL Giornale
X-ORIGINAL-URL:https://xlgiornale.it
X-WR-CALDESC:Eventi per XL Giornale
REFRESH-INTERVAL;VALUE=DURATION:PT1H
X-Robots-Tag:noindex
X-PUBLISHED-TTL:PT1H
BEGIN:VTIMEZONE
TZID:Europe/Paris
BEGIN:DAYLIGHT
TZOFFSETFROM:+0100
TZOFFSETTO:+0200
TZNAME:CEST
DTSTART:20250330T010000
END:DAYLIGHT
BEGIN:STANDARD
TZOFFSETFROM:+0200
TZOFFSETTO:+0100
TZNAME:CET
DTSTART:20251026T010000
END:STANDARD
BEGIN:DAYLIGHT
TZOFFSETFROM:+0100
TZOFFSETTO:+0200
TZNAME:CEST
DTSTART:20260329T010000
END:DAYLIGHT
BEGIN:STANDARD
TZOFFSETFROM:+0200
TZOFFSETTO:+0100
TZNAME:CET
DTSTART:20261025T010000
END:STANDARD
BEGIN:DAYLIGHT
TZOFFSETFROM:+0100
TZOFFSETTO:+0200
TZNAME:CEST
DTSTART:20270328T010000
END:DAYLIGHT
BEGIN:STANDARD
TZOFFSETFROM:+0200
TZOFFSETTO:+0100
TZNAME:CET
DTSTART:20271031T010000
END:STANDARD
END:VTIMEZONE
BEGIN:VEVENT
DTSTART;VALUE=DATE:20260207
DTEND;VALUE=DATE:20260209
DTSTAMP:20260419T125825
CREATED:20260205T085402Z
LAST-MODIFIED:20260205T085631Z
UID:8056-1770422400-1770595199@xlgiornale.it
SUMMARY:MUSICA “Per le strade del mondo”\, omaggio ai New Trolls
DESCRIPTION:Un viaggio nella storia della musica italiana\, tra rock progressivo e parola poetica. È questo il cuore di Per le strade del mondo\, lo spettacolo in programma venerdì 7 e sabato 8 febbraio\, alle ore 17.30\, al Teatro Comunale Darìo Vittori di Montecelio. \nProtagonista della serata è la band Fonema 10\, che propone integralmente i brani del primo LP dei New Trolls\, Senza orario senza bandiera\, pubblicato nel 1968 e considerato una delle opere più importanti del rock italiano. Lo spettacolo nasce come un’indagine musicale e narrativa su un album che ha segnato un’epoca. \nIl costo d’ingresso è di 10 euro.
URL:https://xlgiornale.it/evento/musica-per-le-strade-del-mondo-omaggio-ai-new-trolls/
LOCATION:Teatro comunale Dario Vittori\, Via del Pozzo\, 43\, Montecelio\, Roma\, 00012\, Italy
CATEGORIES:Iniziative
ATTACH;FMTTYPE=image/jpeg:https://xlgiornale.it/wp-content/uploads/2026/01/IMG_3953.jpeg
END:VEVENT
END:VCALENDAR