BEGIN:VCALENDAR
VERSION:2.0
PRODID:-//XL Giornale - ECPv6.15.17.1//NONSGML v1.0//EN
CALSCALE:GREGORIAN
METHOD:PUBLISH
X-WR-CALNAME:XL Giornale
X-ORIGINAL-URL:https://xlgiornale.it
X-WR-CALDESC:Eventi per XL Giornale
REFRESH-INTERVAL;VALUE=DURATION:PT1H
X-Robots-Tag:noindex
X-PUBLISHED-TTL:PT1H
BEGIN:VTIMEZONE
TZID:Europe/Paris
BEGIN:DAYLIGHT
TZOFFSETFROM:+0100
TZOFFSETTO:+0200
TZNAME:CEST
DTSTART:20250330T010000
END:DAYLIGHT
BEGIN:STANDARD
TZOFFSETFROM:+0200
TZOFFSETTO:+0100
TZNAME:CET
DTSTART:20251026T010000
END:STANDARD
BEGIN:DAYLIGHT
TZOFFSETFROM:+0100
TZOFFSETTO:+0200
TZNAME:CEST
DTSTART:20260329T010000
END:DAYLIGHT
BEGIN:STANDARD
TZOFFSETFROM:+0200
TZOFFSETTO:+0100
TZNAME:CET
DTSTART:20261025T010000
END:STANDARD
BEGIN:DAYLIGHT
TZOFFSETFROM:+0100
TZOFFSETTO:+0200
TZNAME:CEST
DTSTART:20270328T010000
END:DAYLIGHT
BEGIN:STANDARD
TZOFFSETFROM:+0200
TZOFFSETTO:+0100
TZNAME:CET
DTSTART:20271031T010000
END:STANDARD
END:VTIMEZONE
BEGIN:VEVENT
DTSTART;VALUE=DATE:20260207
DTEND;VALUE=DATE:20260330
DTSTAMP:20260420T140043
CREATED:20260205T090107Z
LAST-MODIFIED:20260205T090107Z
UID:8064-1770422400-1774828799@xlgiornale.it
SUMMARY:MOSTRA “Silentium et Harmonia”
DESCRIPTION:Il museo non più solo come luogo da osservare\, ma come spazio da abitare\, attraversare\, ascoltare. È questa la suggestione al centro di Silentium et Harmonia\, la mostra fotografica che il Museo Civico Archeologico “Rodolfo Lanciani” inaugura sabato 7 febbraio alle ore 17.00\, a cura di Valeria Contarino. L’esposizione nasce da un dialogo inedito tra due realtà museali profondamente diverse eppure unite da una comune identità archeologica: le sculture antiche della Centrale Montemartini e lo spazio espositivo del Museo Lanciani.\n\nSilentium et Harmonia intreccia così opere provenienti da contesti differenti in un’unica trama visiva\, dove le distanze geografiche e museali si annullano. Le immagini dialogano tra loro\, creando corrispondenze inattese e una nuova armonia capace di oltrepassare i confini fisici delle istituzioni coinvolte\, rinnovando il rapporto tra passato e presente.\n\nLa mostra sarà visitabile dal 7 febbraio al 29 marzo 2026
URL:https://xlgiornale.it/evento/mostra-silentium-et-harmonia/
LOCATION:Museo Civico Archeologico “Rodolfo Lanciani”\, Via XXV Aprile\, Montecelio\, Roma\, 0012\, Italy
CATEGORIES:Iniziative
ATTACH;FMTTYPE=image/jpeg:https://xlgiornale.it/wp-content/uploads/2026/02/Silentium-et-Harmonia-nasce-dallincontro-tra-le-sculture-antiche-della-Centrale-Montemartini-e-lo-spazio-espositivo-del-Museo-Civico-Archeologico-Rodolfo-Lanciani-creando-un-dialogo-sottile-tra-.jpg
END:VEVENT
BEGIN:VEVENT
DTSTART;VALUE=DATE:20260228
DTEND;VALUE=DATE:20260309
DTSTAMP:20260420T140043
CREATED:20260227T085950Z
LAST-MODIFIED:20260227T090109Z
UID:8565-1772236800-1773014399@xlgiornale.it
SUMMARY:MOSTRA personale di Emanuele Moretti
DESCRIPTION:Dal 28 febbraio all’8 marzo 2026\, la Chiesa di San Vincenzo Martire a Tivoli ospita la mostra personale di Emanuele Moretti\, dal titolo “È oggi che ti è dato vivere”\, a cura di Arianna Sera.\nL’esposizione\, promossa con il sostegno della Diocesi di Tivoli e Palestrina\, del Comune di Tivoli e delle ACLI di Roma\, propone un percorso artistico intenso e meditativo che invita il visitatore a riflettere sul valore del presente. Il titolo stesso richiama un messaggio profondo e universale: la vita si compie nell’oggi\, nell’istante che ci è affidato.\n\nLe opere di Moretti si distinguono per una forte componente cromatica e simbolica. I colori\, spesso vibranti e materici\, diventano strumenti di introspezione e spiritualità\, suggerendo un dialogo tra luce e profondità\, tra interiorità e trascendenza. Il contesto della chiesa di San Vincenzo Martire amplifica questa dimensione contemplativa\, trasformando la visita in un’esperienza che unisce arte e raccoglimento.\nL’inaugurazione è prevista per sabato 28 febbraio\, dalle ore 11 alle 18.\nLa mostra sarà visitabile tutti i giorni dalle 16 alle 20\, mentre nei giorni festivi anche la mattina\, dalle 10 alle 13.
URL:https://xlgiornale.it/evento/mostra-personale-di-emanuele-moretti/
LOCATION:Chiesa di San Vincenzo Martire\, Via San Vincenzo\, Tivoli\, Roma\, 00019\, Italy
CATEGORIES:Iniziative
ATTACH;FMTTYPE=image/jpeg:https://xlgiornale.it/wp-content/uploads/2026/02/viacrucis.jpg
END:VEVENT
BEGIN:VEVENT
DTSTART;VALUE=DATE:20260318
DTEND;VALUE=DATE:20260319
DTSTAMP:20260420T140043
CREATED:20260309T111825Z
LAST-MODIFIED:20260309T111844Z
UID:8737-1773792000-1773878399@xlgiornale.it
SUMMARY:IL CAMMINO DELLE DONNE seminario “La fotografia al femminile”
DESCRIPTION:Dall’8 al 31 marzo 2026 sale comunali\, musei\, biblioteche e spazi culturali ospiteranno incontri\, mostre\, concerti\, conferenze e laboratori aperti al pubblico\, con il coinvolgimento di associazioni\, scuole e realtà del territorio. INGRESSO LIBERO \nSpazio anche alla fotografia con il seminario “La fotografia al femminile”\, in programma il 18 e il 28 marzo alla Sala Roesler Franz\, organizzato dal Circolo Fotografico Fuori Fuoco Valle dell’Aniene. \n 
URL:https://xlgiornale.it/evento/il-cammino-delle-donne-seminario-la-fotografia-al-femminile/
CATEGORIES:Iniziative
ATTACH;FMTTYPE=image/jpeg:https://xlgiornale.it/wp-content/uploads/2026/03/IMG_4488.jpeg
END:VEVENT
BEGIN:VEVENT
DTSTART;VALUE=DATE:20260320
DTEND;VALUE=DATE:20260329
DTSTAMP:20260420T140043
CREATED:20260309T112710Z
LAST-MODIFIED:20260309T112710Z
UID:8744-1773964800-1774742399@xlgiornale.it
SUMMARY:IL CAMMINO DELLE DONNE incontri formativi\, workshop\, musica e mostre
DESCRIPTION:Dall’8 al 31 marzo 2026 sale comunali\, musei\, biblioteche e spazi culturali ospiteranno incontri\, mostre\, concerti\, conferenze e laboratori aperti al pubblico\, con il coinvolgimento di associazioni\, scuole e realtà del territorio. INGRESSO LIBERO \nIl calendario proseguirà con incontri formativi\, workshop e mostre\, tra cui “Libere di… Libere per…” dell’associazione Il Bivio (20-22 marzo)\, la mostra pittorica “Transiti” dell’artista Vincent Navarra (27-29 marzo) e la mostra fotografica con seminario “Parole che fanno la differenza” dell’associazione Rete Rosa. \nTra gli appuntamenti musicali spicca il concerto “Compositrici e poetesse: storie di donne straordinarie ma dimenticate” della pianista Natalia Colantoni\, in programma il 28 marzo alle Scuderie Estensi.
URL:https://xlgiornale.it/evento/il-cammino-delle-donne-incontri-formativi-workshop-musica-e-mostre/
CATEGORIES:Iniziative
ATTACH;FMTTYPE=image/jpeg:https://xlgiornale.it/wp-content/uploads/2026/03/IMG_4488.jpeg
END:VEVENT
BEGIN:VEVENT
DTSTART;VALUE=DATE:20260321
DTEND;VALUE=DATE:20260322
DTSTAMP:20260420T140043
CREATED:20260309T112508Z
LAST-MODIFIED:20260309T112508Z
UID:8742-1774051200-1774137599@xlgiornale.it
SUMMARY:IL CAMMINO DELLE DONNE eventi tra conferenze e mostre
DESCRIPTION:Dall’8 al 31 marzo 2026 sale comunali\, musei\, biblioteche e spazi culturali ospiteranno incontri\, mostre\, concerti\, conferenze e laboratori aperti al pubblico\, con il coinvolgimento di associazioni\, scuole e realtà del territorio. INGRESSO LIBERO \nIl 21 marzo sarà una giornata particolarmente ricca di eventi: dalla conferenza “Magna Mater e comunità matriarcali” della professoressa Ilaria Morini alla mostra “Donna: tra radici e contemporaneità” dell’artista Silvia Coletti\, fino all’iniziativa “Fiori di roccia. Voci al femminile”\, con letture e musica dedicate alle donne.
URL:https://xlgiornale.it/evento/il-cammino-delle-donne-eventi-tra-conferenze-e-mostre/
CATEGORIES:Iniziative
ATTACH;FMTTYPE=image/jpeg:https://xlgiornale.it/wp-content/uploads/2026/03/IMG_4488.jpeg
END:VEVENT
END:VCALENDAR