BEGIN:VCALENDAR
VERSION:2.0
PRODID:-//XL Giornale - ECPv6.15.17.1//NONSGML v1.0//EN
CALSCALE:GREGORIAN
METHOD:PUBLISH
X-ORIGINAL-URL:https://xlgiornale.it
X-WR-CALDESC:Eventi per XL Giornale
REFRESH-INTERVAL;VALUE=DURATION:PT1H
X-Robots-Tag:noindex
X-PUBLISHED-TTL:PT1H
BEGIN:VTIMEZONE
TZID:UTC
BEGIN:STANDARD
TZOFFSETFROM:+0000
TZOFFSETTO:+0000
TZNAME:UTC
DTSTART:20250101T000000
END:STANDARD
END:VTIMEZONE
BEGIN:VEVENT
DTSTART;VALUE=DATE:20260408
DTEND;VALUE=DATE:20260413
DTSTAMP:20260424T182408
CREATED:20260408T110239Z
LAST-MODIFIED:20260408T110239Z
UID:9273-1775606400-1776038399@xlgiornale.it
SUMMARY:FOTOGRAFIA “Paesaggi dell’anima. Al di là del visibile”
DESCRIPTION:Dal 3 al 12 aprile 2026\, le Scuderie Estensi di Tivoli ospitano la mostra fotografica “Paesaggi dell’anima. Al di là del visibile” di Pietro Martella\, un progetto che invita il pubblico a esplorare i luoghi dell’irrazionale e a percepire la realtà oltre la semplice vista. Alcuni scatti della mostra saranno fruibili con lettura tattile e accompagnati da musiche immersive composte e interpretate dalla violinista Ivana Comito\, già collaboratrice dell’artista in “Sinestesie” (Rocca Pia\, aprile 2025). \nLa mostra riflette la ricerca interiore dell’autore\, che accoglie il caos e il movimento perpetuo come cifra stilistica di un’anima inquieta e mutevole. Il linguaggio fotografico di Martella si fa introspezione condivisa: anche nelle profondità più oscure\, l’anima rimane una terra abitata\, pronta ad accogliere chi sa guardare oltre la superficie.
URL:https://xlgiornale.it/evento/fotografia-paesaggi-dellanima-al-di-la-del-visibile/
LOCATION:Scuderie Estensi\, Piazza Giuseppe Garibaldi\, Tivoli\, Roma\, 00019\, Italy
CATEGORIES:Iniziative
ATTACH;FMTTYPE=image/jpeg:https://xlgiornale.it/wp-content/uploads/2026/03/eppur-immobile_web-scaled.jpg
END:VEVENT
END:VCALENDAR