BEGIN:VCALENDAR
VERSION:2.0
PRODID:-//XL Giornale - ECPv6.15.17.1//NONSGML v1.0//EN
CALSCALE:GREGORIAN
METHOD:PUBLISH
X-ORIGINAL-URL:https://xlgiornale.it
X-WR-CALDESC:Eventi per XL Giornale
REFRESH-INTERVAL;VALUE=DURATION:PT1H
X-Robots-Tag:noindex
X-PUBLISHED-TTL:PT1H
BEGIN:VTIMEZONE
TZID:Europe/Paris
BEGIN:DAYLIGHT
TZOFFSETFROM:+0100
TZOFFSETTO:+0200
TZNAME:CEST
DTSTART:20250330T010000
END:DAYLIGHT
BEGIN:STANDARD
TZOFFSETFROM:+0200
TZOFFSETTO:+0100
TZNAME:CET
DTSTART:20251026T010000
END:STANDARD
BEGIN:DAYLIGHT
TZOFFSETFROM:+0100
TZOFFSETTO:+0200
TZNAME:CEST
DTSTART:20260329T010000
END:DAYLIGHT
BEGIN:STANDARD
TZOFFSETFROM:+0200
TZOFFSETTO:+0100
TZNAME:CET
DTSTART:20261025T010000
END:STANDARD
BEGIN:DAYLIGHT
TZOFFSETFROM:+0100
TZOFFSETTO:+0200
TZNAME:CEST
DTSTART:20270328T010000
END:DAYLIGHT
BEGIN:STANDARD
TZOFFSETFROM:+0200
TZOFFSETTO:+0100
TZNAME:CET
DTSTART:20271031T010000
END:STANDARD
END:VTIMEZONE
BEGIN:VEVENT
DTSTART;TZID=Europe/Paris:20260124T090000
DTEND;TZID=Europe/Paris:20260124T120000
DTSTAMP:20260419T142105
CREATED:20260122T093004Z
LAST-MODIFIED:20260122T093004Z
UID:7747-1769245200-1769256000@xlgiornale.it
SUMMARY:CONVEGNO: “Dall’alba al tramonto. Accogliere la fragilità nell’arco della vita”
DESCRIPTION:VILLANOVA DI GUIDONIA – Sabato 24 gennaio\, la Diocesi di Tivoli si ritroverà presso la parrocchia di San Giuseppe Artigiano per riflettere su un tema che tocca ognuno di noi: la vulnerabilità. Il convegno “Dall’alba al tramonto. Accogliere la fragilità nell’arco della vita”\, in programma dalle ore 9:00\, nasce come momento di preparazione alla prossima Giornata Nazionale per la Vita. \nL’incontro\, che vedrà la partecipazione del Vescovo Mauro Parmeggiani\, si propone di esplorare le diverse tappe dell’esistenza attraverso lo sguardo di esperti e medici. Nessuna vita\, per quanto fragile\, deve essere lasciata sola. Un appuntamento aperto a tutti\, pensato per offrire non solo risposte tecniche\, ma soprattutto vicinanza umana a chi si trova ad affrontare i momenti più difficili del cammino.
URL:https://xlgiornale.it/evento/convegno-dallalba-al-tramonto-accogliere-la-fragilita-nellarco-della-vita/
LOCATION:Parrocchia di San Giuseppe Artigiano – Villanova\, Via Giuseppe Mazzini\, 1\, Villanova\, Roma\, 00012\, Italy
CATEGORIES:Iniziative
ATTACH;FMTTYPE=image/jpeg:https://xlgiornale.it/wp-content/uploads/2026/01/S.E.-Mons.-Mauro-Parmeggiani_06-scaled-1.jpg
END:VEVENT
END:VCALENDAR