BEGIN:VCALENDAR
VERSION:2.0
PRODID:-//XL Giornale - ECPv6.15.17.1//NONSGML v1.0//EN
CALSCALE:GREGORIAN
METHOD:PUBLISH
X-ORIGINAL-URL:https://xlgiornale.it
X-WR-CALDESC:Eventi per XL Giornale
REFRESH-INTERVAL;VALUE=DURATION:PT1H
X-Robots-Tag:noindex
X-PUBLISHED-TTL:PT1H
BEGIN:VTIMEZONE
TZID:Europe/Paris
BEGIN:DAYLIGHT
TZOFFSETFROM:+0100
TZOFFSETTO:+0200
TZNAME:CEST
DTSTART:20250330T010000
END:DAYLIGHT
BEGIN:STANDARD
TZOFFSETFROM:+0200
TZOFFSETTO:+0100
TZNAME:CET
DTSTART:20251026T010000
END:STANDARD
BEGIN:DAYLIGHT
TZOFFSETFROM:+0100
TZOFFSETTO:+0200
TZNAME:CEST
DTSTART:20260329T010000
END:DAYLIGHT
BEGIN:STANDARD
TZOFFSETFROM:+0200
TZOFFSETTO:+0100
TZNAME:CET
DTSTART:20261025T010000
END:STANDARD
BEGIN:DAYLIGHT
TZOFFSETFROM:+0100
TZOFFSETTO:+0200
TZNAME:CEST
DTSTART:20270328T010000
END:DAYLIGHT
BEGIN:STANDARD
TZOFFSETFROM:+0200
TZOFFSETTO:+0100
TZNAME:CET
DTSTART:20271031T010000
END:STANDARD
END:VTIMEZONE
BEGIN:VEVENT
DTSTART;VALUE=DATE:20260312
DTEND;VALUE=DATE:20260317
DTSTAMP:20260420T114521
CREATED:20260313T113150Z
LAST-MODIFIED:20260313T113150Z
UID:8817-1773273600-1773705599@xlgiornale.it
SUMMARY:ESPOSIZIONE Tivoli da sfogliare
DESCRIPTION:Fino al 16 marzo la città di Tivoli ospita un appuntamento dedicato alla memoria storica e al fascino della carta: “Tivoli da sfogliare”\, iniziativa promossa da Marco Polo presso la Chiesa di San Vincenzo\, in via Colsereno.\n\nL’evento propone un viaggio nella storia locale attraverso una ricca selezione di libri antichi\, rarità editoriali\, documenti manoscritti\, fotografie storiche\, cartoline d’epoca e curiosità legate alla millenaria storia di Tivoli. Un’occasione preziosa per appassionati\, studiosi e semplici curiosi che desiderano scoprire o riscoprire il passato della città sfogliando materiali rari e spesso difficilmente accessibili.
URL:https://xlgiornale.it/evento/esposizione-tivoli-da-sfogliare/
LOCATION:Chiesa di San Vincenzo Martire\, Via San Vincenzo\, Tivoli\, Roma\, 00019\, Italy
CATEGORIES:Iniziative
ATTACH;FMTTYPE=image/png:https://xlgiornale.it/wp-content/uploads/2026/03/Marco_Polo-05-Layout-1-e1773159557902.png
END:VEVENT
BEGIN:VEVENT
DTSTART;TZID=Europe/Paris:20260213T180000
DTEND;TZID=Europe/Paris:20260213T190000
DTSTAMP:20260420T114521
CREATED:20260213T102355Z
LAST-MODIFIED:20260213T102541Z
UID:8240-1771005600-1771009200@xlgiornale.it
SUMMARY:INCONTRO Piero Ambrosi racconta Tiziano Terzani
DESCRIPTION:Un pomeriggio dedicato alla memoria e all’eredità culturale di Tiziano Terzani. È quello in programma venerdì 13 febbraio alle ore 18 presso l’Aula Magna dell’I.C. “V. Pacifici”\, nell’ambito dei Pomeriggi letterari promossi dalla Libera Università Igino Giordani (LUIG). \nProtagonista dell’incontro sarà il volume di Piero Ambrosi\, “Tiziano Terzani. L’Asia dentro l’imbrunire”\, un’opera che invita a rileggere la figura del grande giornalista e scrittore fiorentino attraverso il suo profondo legame con l’Asia\, continente che ha raccontato per decenni con sguardo lucido\, critico e profondamente umano. \nINGRESSO LIBERO
URL:https://xlgiornale.it/evento/incontro-piero-ambrosi-racconta-tiziano-terzani/
LOCATION:I.C. Vincenzo Pacifici\, Via Leonina\, 8\, Tivoli\, Roma\, 00019\, Italy
CATEGORIES:Iniziative
ATTACH;FMTTYPE=image/jpeg:https://xlgiornale.it/wp-content/uploads/2026/02/WhatsApp-Image-2026-02-12-at-17.35.12-1.jpeg
END:VEVENT
END:VCALENDAR