BEGIN:VCALENDAR
VERSION:2.0
PRODID:-//XL Giornale - ECPv6.15.17.1//NONSGML v1.0//EN
CALSCALE:GREGORIAN
METHOD:PUBLISH
X-WR-CALNAME:XL Giornale
X-ORIGINAL-URL:https://xlgiornale.it
X-WR-CALDESC:Eventi per XL Giornale
REFRESH-INTERVAL;VALUE=DURATION:PT1H
X-Robots-Tag:noindex
X-PUBLISHED-TTL:PT1H
BEGIN:VTIMEZONE
TZID:Europe/Paris
BEGIN:DAYLIGHT
TZOFFSETFROM:+0100
TZOFFSETTO:+0200
TZNAME:CEST
DTSTART:20250330T010000
END:DAYLIGHT
BEGIN:STANDARD
TZOFFSETFROM:+0200
TZOFFSETTO:+0100
TZNAME:CET
DTSTART:20251026T010000
END:STANDARD
BEGIN:DAYLIGHT
TZOFFSETFROM:+0100
TZOFFSETTO:+0200
TZNAME:CEST
DTSTART:20260329T010000
END:DAYLIGHT
BEGIN:STANDARD
TZOFFSETFROM:+0200
TZOFFSETTO:+0100
TZNAME:CET
DTSTART:20261025T010000
END:STANDARD
BEGIN:DAYLIGHT
TZOFFSETFROM:+0100
TZOFFSETTO:+0200
TZNAME:CEST
DTSTART:20270328T010000
END:DAYLIGHT
BEGIN:STANDARD
TZOFFSETFROM:+0200
TZOFFSETTO:+0100
TZNAME:CET
DTSTART:20271031T010000
END:STANDARD
END:VTIMEZONE
BEGIN:VEVENT
DTSTART;TZID=Europe/Paris:20260208T100000
DTEND;TZID=Europe/Paris:20260208T120000
DTSTAMP:20260424T171039
CREATED:20260205T091503Z
LAST-MODIFIED:20260205T091503Z
UID:8070-1770544800-1770552000@xlgiornale.it
SUMMARY:TREKKING urbano sui luoghi della Resistenza Italiana
DESCRIPTION:Domenica 8 febbraio 2026 con un trekking urbano\, in partenza alle ore 10\, pensato come momento di approfondimento sul campo dei contenuti del libro “Itinerario didattico sui luoghi della Resistenza”. Il percorso\, lungo circa due chilometri\, avrà una durata complessiva di due ore e condurrà i partecipanti attraverso alcuni dei principali luoghi della Resistenza a Tivoli. \nPer informazioni e prenotazioni è possibile scrivere all’indirizzo e-mail: camminoliberazioneaniene@gmail.com.
URL:https://xlgiornale.it/evento/trekking-urbano-sui-luoghi-della-resistenza-italiana/
CATEGORIES:Iniziative
ATTACH;FMTTYPE=image/jpeg:https://xlgiornale.it/wp-content/uploads/2026/02/RESISTENZA.jpg
END:VEVENT
BEGIN:VEVENT
DTSTART;TZID=Europe/Paris:20260207T170000
DTEND;TZID=Europe/Paris:20260207T190000
DTSTAMP:20260424T171039
CREATED:20260205T090859Z
LAST-MODIFIED:20260205T091115Z
UID:8066-1770483600-1770490800@xlgiornale.it
SUMMARY:PRESENTAZIONE libro sui luoghi della Resistenza Italiana
DESCRIPTION:Presentazione del libro “Itinerario didattico sui luoghi della Resistenza”. Tivoli si prepara a ospitare un fine settimana dedicato alla memoria storica e alla valorizzazione dei luoghi della Resistenza. Sabato 7 febbraio 2026\, alle ore 17\, nella sala conferenze del Museo della Città\, in via della Carità 1\, sarà presentato il volume Itinerario didattico sui luoghi della Resistenza a Tivoli. \nPer informazioni e prenotazioni è possibile scrivere all’indirizzo e-mail: camminoliberazioneaniene@gmail.com
URL:https://xlgiornale.it/evento/presentazione-libro-sui-luoghi-della-resistenza-italiana/
LOCATION:Museo della città di Tivoli\, Via della Carità\, 1\, Tivoli\, Roma\, 00019\, Italy
CATEGORIES:Iniziative
ATTACH;FMTTYPE=image/jpeg:https://xlgiornale.it/wp-content/uploads/2026/02/RESISTENZA.jpg
END:VEVENT
END:VCALENDAR