BEGIN:VCALENDAR
VERSION:2.0
PRODID:-//XL Giornale - ECPv6.15.17.1//NONSGML v1.0//EN
CALSCALE:GREGORIAN
METHOD:PUBLISH
X-ORIGINAL-URL:https://xlgiornale.it
X-WR-CALDESC:Eventi per XL Giornale
REFRESH-INTERVAL;VALUE=DURATION:PT1H
X-Robots-Tag:noindex
X-PUBLISHED-TTL:PT1H
BEGIN:VTIMEZONE
TZID:Europe/Paris
BEGIN:DAYLIGHT
TZOFFSETFROM:+0100
TZOFFSETTO:+0200
TZNAME:CEST
DTSTART:20250330T010000
END:DAYLIGHT
BEGIN:STANDARD
TZOFFSETFROM:+0200
TZOFFSETTO:+0100
TZNAME:CET
DTSTART:20251026T010000
END:STANDARD
BEGIN:DAYLIGHT
TZOFFSETFROM:+0100
TZOFFSETTO:+0200
TZNAME:CEST
DTSTART:20260329T010000
END:DAYLIGHT
BEGIN:STANDARD
TZOFFSETFROM:+0200
TZOFFSETTO:+0100
TZNAME:CET
DTSTART:20261025T010000
END:STANDARD
BEGIN:DAYLIGHT
TZOFFSETFROM:+0100
TZOFFSETTO:+0200
TZNAME:CEST
DTSTART:20270328T010000
END:DAYLIGHT
BEGIN:STANDARD
TZOFFSETFROM:+0200
TZOFFSETTO:+0100
TZNAME:CET
DTSTART:20271031T010000
END:STANDARD
END:VTIMEZONE
BEGIN:VEVENT
DTSTART;TZID=Europe/Paris:20260206T170000
DTEND;TZID=Europe/Paris:20260206T190000
DTSTAMP:20260420T104204
CREATED:20260205T091942Z
LAST-MODIFIED:20260205T091942Z
UID:8072-1770397200-1770404400@xlgiornale.it
SUMMARY:INCONTRO storico sulle foibe con il Circolo Gobetti
DESCRIPTION:Il Circolo di Cultura Politica ed Economica “Piero Gobetti” di Tivoli promuove un importante appuntamento di riflessione storica dal titolo “Le foibe nel quadro dei rapporti italo-slavi e delle due guerre mondiali”.\n\nL’incontro si propone di offrire al pubblico una lettura ampia e contestualizzata di una delle pagine più complesse e dolorose della storia del Novecento\, inserendo il tema delle foibe nel più vasto quadro dei rapporti politici\, nazionali e sociali tra Italia e mondo slavo\, dall’età della Prima guerra mondiale fino al secondo conflitto mondiale\, relatore della conferenza sarà il professor Alcibiade Boratto.\n\nVenerdì 6 febbraio 2026\, alle ore 17.00\, presso la Sala conferenze del Museo Civico di Tivoli\, in piazza Campitelli.
URL:https://xlgiornale.it/evento/incontro-storico-sulle-foibe-con-il-circolo-gobetti/
LOCATION:Museo della città di Tivoli\, Via della Carità\, 1\, Tivoli\, Roma\, 00019\, Italy
CATEGORIES:Iniziative
ATTACH;FMTTYPE=image/jpeg:https://xlgiornale.it/wp-content/uploads/2026/02/FOIBE.jpg
END:VEVENT
END:VCALENDAR