BEGIN:VCALENDAR
VERSION:2.0
PRODID:-//XL Giornale - ECPv6.15.17.1//NONSGML v1.0//EN
CALSCALE:GREGORIAN
METHOD:PUBLISH
X-ORIGINAL-URL:https://xlgiornale.it
X-WR-CALDESC:Eventi per XL Giornale
REFRESH-INTERVAL;VALUE=DURATION:PT1H
X-Robots-Tag:noindex
X-PUBLISHED-TTL:PT1H
BEGIN:VTIMEZONE
TZID:Europe/Paris
BEGIN:DAYLIGHT
TZOFFSETFROM:+0100
TZOFFSETTO:+0200
TZNAME:CEST
DTSTART:20250330T010000
END:DAYLIGHT
BEGIN:STANDARD
TZOFFSETFROM:+0200
TZOFFSETTO:+0100
TZNAME:CET
DTSTART:20251026T010000
END:STANDARD
BEGIN:DAYLIGHT
TZOFFSETFROM:+0100
TZOFFSETTO:+0200
TZNAME:CEST
DTSTART:20260329T010000
END:DAYLIGHT
BEGIN:STANDARD
TZOFFSETFROM:+0200
TZOFFSETTO:+0100
TZNAME:CET
DTSTART:20261025T010000
END:STANDARD
BEGIN:DAYLIGHT
TZOFFSETFROM:+0100
TZOFFSETTO:+0200
TZNAME:CEST
DTSTART:20270328T010000
END:DAYLIGHT
BEGIN:STANDARD
TZOFFSETFROM:+0200
TZOFFSETTO:+0100
TZNAME:CET
DTSTART:20271031T010000
END:STANDARD
END:VTIMEZONE
BEGIN:VEVENT
DTSTART;VALUE=DATE:20260101
DTEND;VALUE=DATE:20260102
DTSTAMP:20260420T235611
CREATED:20251229T113716Z
LAST-MODIFIED:20251229T114042Z
UID:7027-1767225600-1767311999@xlgiornale.it
SUMMARY:APERTURA STRAORDINARIA dei Musei
DESCRIPTION:In occasione delle festività di Capodanno e dell’Epifania\, giovedì 1° gennaio e martedì 6 gennaio 2026\, i musei\, i parchi archeologici e i luoghi della cultura statali resteranno aperti su tutto il territorio nazionale. \nUn’opportunità significativa per cittadini e turisti che\, durante le festività\, potranno visitare collezioni\, siti archeologici e complessi monumentali regolarmente accessibili secondo i consueti orari di apertura\, con prenotazione obbligatoria laddove prevista. \nVisualizza l’elenco dei musei aperti!
URL:https://xlgiornale.it/evento/apertura-straordinaria-dei-musei/
LOCATION:Roma
CATEGORIES:Iniziative
ATTACH;FMTTYPE=image/jpeg:https://xlgiornale.it/wp-content/uploads/2025/12/beauty-digital-art-through-immersive-experiences-scaled.jpg
END:VEVENT
END:VCALENDAR