BEGIN:VCALENDAR
VERSION:2.0
PRODID:-//XL Giornale - ECPv6.15.17.1//NONSGML v1.0//EN
CALSCALE:GREGORIAN
METHOD:PUBLISH
X-ORIGINAL-URL:https://xlgiornale.it
X-WR-CALDESC:Eventi per XL Giornale
REFRESH-INTERVAL;VALUE=DURATION:PT1H
X-Robots-Tag:noindex
X-PUBLISHED-TTL:PT1H
BEGIN:VTIMEZONE
TZID:Europe/Paris
BEGIN:DAYLIGHT
TZOFFSETFROM:+0100
TZOFFSETTO:+0200
TZNAME:CEST
DTSTART:20250330T010000
END:DAYLIGHT
BEGIN:STANDARD
TZOFFSETFROM:+0200
TZOFFSETTO:+0100
TZNAME:CET
DTSTART:20251026T010000
END:STANDARD
BEGIN:DAYLIGHT
TZOFFSETFROM:+0100
TZOFFSETTO:+0200
TZNAME:CEST
DTSTART:20260329T010000
END:DAYLIGHT
BEGIN:STANDARD
TZOFFSETFROM:+0200
TZOFFSETTO:+0100
TZNAME:CET
DTSTART:20261025T010000
END:STANDARD
BEGIN:DAYLIGHT
TZOFFSETFROM:+0100
TZOFFSETTO:+0200
TZNAME:CEST
DTSTART:20270328T010000
END:DAYLIGHT
BEGIN:STANDARD
TZOFFSETFROM:+0200
TZOFFSETTO:+0100
TZNAME:CET
DTSTART:20271031T010000
END:STANDARD
END:VTIMEZONE
BEGIN:VTIMEZONE
TZID:UTC
BEGIN:STANDARD
TZOFFSETFROM:+0000
TZOFFSETTO:+0000
TZNAME:UTC
DTSTART:20250101T000000
END:STANDARD
END:VTIMEZONE
BEGIN:VEVENT
DTSTART;VALUE=DATE:20260424
DTEND;VALUE=DATE:20260426
DTSTAMP:20260424T153437
CREATED:20260424T103157Z
LAST-MODIFIED:20260424T103157Z
UID:9603-1776988800-1777161599@xlgiornale.it
SUMMARY:LIBERAZIONE le iniziative di Guidonia Montecelio
DESCRIPTION:Venerdì 24 aprile – Teatro Comunale Dario Vittori\, Montecelio La vigilia della Festa della Liberazione si apre alle ore 20:30 al Teatro Comunale Dario Vittori di Montecelio con la lettura teatrale “Come il fascismo è sopravvissuto al fascismo”\, scritta e interpretata da Gianni Cipriani\, giornalista e studioso delle trame eversive del Novecento. Accanto alla voce dell’autore\, la scena si arricchisce delle letture dell’attore Anacleto Lauri e delle musiche originali di Luca Cipriani\, in una forma essenziale ma incisiva che alterna narrazione e interpretazione\, puntando sulla forza dei contenuti e delle fonti. L’ingresso è libero fino a esaurimento posti. Per prenotazioni: ass.oltreilponte@gmail.com.  \nSabato 25 aprile – Le iniziative della giornata Durante la mattinata si svolgerà la deposizione delle corone ai caduti\, a cura dell’Amministrazione Comunale\, nelle frazioni del Comune di Guidonia Montecelio\, in ricordo di chi ha sacrificato la propria vita per la libertà. Dalle ore 17:00\, presso la Biblioteca Comunale Centrale (Via M. Moris 7\, Guidonia)\, è in programma la “Merenda Partigiana”: Un momento conviviale tra musica e letture per nutrire il corpo e il pensiero. Per la Merenda Partigiana è gradita la prenotazione: anpi.guidonia@gmail.com.
URL:https://xlgiornale.it/evento/liberazione-le-iniziative-di-guidonia-montecelio/
CATEGORIES:Iniziative
ATTACH;FMTTYPE=image/jpeg:https://xlgiornale.it/wp-content/uploads/2026/04/locandina-25-aprile-26.jpg
END:VEVENT
BEGIN:VEVENT
DTSTART;VALUE=DATE:20260424
DTEND;VALUE=DATE:20260427
DTSTAMP:20260424T153437
CREATED:20260424T102559Z
LAST-MODIFIED:20260424T102559Z
UID:9599-1776988800-1777247999@xlgiornale.it
SUMMARY:LIBERAZIONE la Festa della resistenza a Roma
DESCRIPTION:Dal 23 al 26 aprile è in programma la IV edizione della Festa della Resistenza\, l’appuntamento promosso da Roma Capitale – Assessorato alla Cultura e al Coordinamento delle iniziative riconducibili alla Giornata della Memoria che quest’anno connette idealmente le celebrazioni per l’81° Anniversario della Liberazione agli 80 anni dell’Assemblea Costituente. La manifestazione elegge a sede principale il rinnovato Mattatoio di Testaccio\, pronto a trasformarsi in una “Cittadella della Resistenza” con oltre 100 appuntamenti tra lectio\, incontri\, teatro\, musica\, proiezioni\, mostre e visite guidate\, tutti a ingresso libero e gratuito (a eccezione di uno spettacolo).\n\n\n\n\n\nIl programma\, a cura di Silvia Barbagallo\, rintraccia i fili che uniscono la lotta partigiana alla stesura della nostra Carta costituzionale\, rivolgendo un omaggio speciale alle Madri Costituenti. \nIl calendario completo\, suscettibile di variazioni e con tutte le info\, è disponibile su https://culture.roma.it/festadellaresistenza.
URL:https://xlgiornale.it/evento/liberazione-la-festa-della-resistenza-a-roma/
LOCATION:Mattatoio di Testaccio\, Piazza Orazio Giustiniani\, 4\, Roma\, Roma\, 00153\, Italy
CATEGORIES:Iniziative
ATTACH;FMTTYPE=image/webp:https://xlgiornale.it/wp-content/uploads/2026/04/festa-della-resistenza-2026-1536x1131-1.webp
END:VEVENT
BEGIN:VEVENT
DTSTART;VALUE=DATE:20260425
DTEND;VALUE=DATE:20260427
DTSTAMP:20260424T153437
CREATED:20260424T102933Z
LAST-MODIFIED:20260424T102933Z
UID:9601-1777075200-1777247999@xlgiornale.it
SUMMARY:LIBERAZIONE le iniziative di Tivoli e Villa Adriana
DESCRIPTION:La mattina di sabato 25 aprile il consueto corteo istituzionale partirà alle ore 10 da Palazzo san Bernardino a Tivoli con il gonfalone della città di Tivoli e farà tappa a Piazza Rivarola per poi dirigersi al cortile della Rocca Pia presso le lapidi degli antifascisti tiburtini caduti per la libertà. \nA Villa Adriana il Comitato di Quartiere ha previsto il seguente programma: Ore 11.30Marcia della Pace (partenza e arrivo a Parco Panattoni) Ore 12 scopertura della stele al Parco dei Meli (largo Franceschi) per tutti i caduti per la libertà Ore 13 pranzo al Parco (le prenotazioni esaurite) Pomeriggio gioco di ruolo “Banditi” divulgativo della Resistenza antifascista. \nAlle Scuderie Estensi ore 17.30 dibattito sulla libertà di stampa con il giornalista Rai Riccardo Cucchi\, Gianni Cipriani (Globalist)\, Piero Ambrosi (ANPI Tivoli). \nSempre a Villa adriana a Parco Panattoni Domenica 26 aprile il programma prosegue con: Ore 10.30 Laboratorio di letture animate sper bambini sul libro “Partigiane” Ore 16 Gioco dell’Oca vivente Ore 18.30 Stefano Guerra ne “il primo miracolo di Gesù bambino” e altre giullarate da Mistero Buffo di Dario Fo e Franca Rame.
URL:https://xlgiornale.it/evento/liberazione-le-iniziative-di-tivoli-e-villa-adriana/
LOCATION:Tivoli\, Vicolo Inversata 5\, Tivoli\, Roma\, 00019\, Italy
CATEGORIES:Iniziative
ATTACH;FMTTYPE=image/jpeg:https://xlgiornale.it/wp-content/uploads/2026/04/WhatsApp-Image-2026-04-24-at-10.19.12.jpeg
END:VEVENT
END:VCALENDAR